BEGIN:VCALENDAR
VERSION:2.0
PRODID:-//Arizona Youth Ballet - ECPv6.1.3//NONSGML v1.0//EN
CALSCALE:GREGORIAN
METHOD:PUBLISH
X-WR-CALNAME:Arizona Youth Ballet
X-ORIGINAL-URL:https://www.arizonayouthballet.org
X-WR-CALDESC:Events for Arizona Youth Ballet
REFRESH-INTERVAL;VALUE=DURATION:PT1H
X-Robots-Tag:noindex
X-PUBLISHED-TTL:PT1H
BEGIN:VTIMEZONE
TZID:America/Phoenix
BEGIN:STANDARD
TZOFFSETFROM:-0700
TZOFFSETTO:-0700
TZNAME:MST
DTSTART:20230101T000000
END:STANDARD
END:VTIMEZONE
BEGIN:VEVENT
DTSTART;VALUE=DATE:20231202
DTEND;VALUE=DATE:20231203
DTSTAMP:20260423T130408
CREATED:20230807T001128Z
LAST-MODIFIED:20230807T001128Z
UID:5283-1701475200-1701561599@www.arizonayouthballet.org
SUMMARY:In-Studio Dress Rehearsal
DESCRIPTION:
URL:https://www.arizonayouthballet.org/event/in-studio-dress-rehearsal-2/
LOCATION:CanDance Studios\, 1495 S Higley Rd\, B101\, Gilbert\, Arizona\, 85295\, United States
END:VEVENT
END:VCALENDAR