BEGIN:VCALENDAR
VERSION:2.0
PRODID:-//Arizona Youth Ballet - ECPv6.1.3//NONSGML v1.0//EN
CALSCALE:GREGORIAN
METHOD:PUBLISH
X-WR-CALNAME:Arizona Youth Ballet
X-ORIGINAL-URL:https://www.arizonayouthballet.org
X-WR-CALDESC:Events for Arizona Youth Ballet
REFRESH-INTERVAL;VALUE=DURATION:PT1H
X-Robots-Tag:noindex
X-PUBLISHED-TTL:PT1H
BEGIN:VTIMEZONE
TZID:America/Phoenix
BEGIN:STANDARD
TZOFFSETFROM:-0700
TZOFFSETTO:-0700
TZNAME:MST
DTSTART:20230101T000000
END:STANDARD
END:VTIMEZONE
BEGIN:VEVENT
DTSTART;VALUE=DATE:20240524
DTEND;VALUE=DATE:20240525
DTSTAMP:20260419T183027
CREATED:20230807T003612Z
LAST-MODIFIED:20230807T003612Z
UID:5324-1716508800-1716595199@www.arizonayouthballet.org
SUMMARY:QPAC Dress Rehearsal
DESCRIPTION:
URL:https://www.arizonayouthballet.org/event/qpac-dress-rehearsal/
LOCATION:AZ
END:VEVENT
BEGIN:VEVENT
DTSTART;VALUE=DATE:20240518
DTEND;VALUE=DATE:20240519
DTSTAMP:20260419T183027
CREATED:20230807T003538Z
LAST-MODIFIED:20230807T003538Z
UID:5322-1715990400-1716076799@www.arizonayouthballet.org
SUMMARY:CanDance/NuEvolution Recitals
DESCRIPTION:
URL:https://www.arizonayouthballet.org/event/candance-nuevolution-recitals/
LOCATION:AZ
END:VEVENT
BEGIN:VEVENT
DTSTART;VALUE=DATE:20240516
DTEND;VALUE=DATE:20240517
DTSTAMP:20260419T183027
CREATED:20230807T003352Z
LAST-MODIFIED:20230807T004735Z
UID:5319-1715817600-1715903999@www.arizonayouthballet.org
SUMMARY:In-Studio Dress Rehearsal
DESCRIPTION:
URL:https://www.arizonayouthballet.org/event/in-studio-dress-rehearsal-4/
LOCATION:CanDance Studios\, 1495 S Higley Rd\, B101\, Gilbert\, Arizona\, 85295\, United States
ORGANIZER;CN="Jane%20Walls":MAILTO:arizonayouthballet.org
END:VEVENT
BEGIN:VEVENT
DTSTART;VALUE=DATE:20240504
DTEND;VALUE=DATE:20240505
DTSTAMP:20260419T183027
CREATED:20230807T003439Z
LAST-MODIFIED:20230807T003439Z
UID:5318-1714780800-1714867199@www.arizonayouthballet.org
SUMMARY:Goodwill Drive
DESCRIPTION:
URL:https://www.arizonayouthballet.org/event/goodwill-drive/
LOCATION:AZ
END:VEVENT
BEGIN:VEVENT
DTSTART;VALUE=DATE:20240504
DTEND;VALUE=DATE:20240505
DTSTAMP:20260419T183027
CREATED:20230807T003305Z
LAST-MODIFIED:20230807T003305Z
UID:5316-1714780800-1714867199@www.arizonayouthballet.org
SUMMARY:In-Studio Dress Rehearsal
DESCRIPTION:
URL:https://www.arizonayouthballet.org/event/in-studio-dress-rehearsal-3/
LOCATION:CanDance Studios\, 1495 S Higley Rd\, B101\, Gilbert\, Arizona\, 85295\, United States
ORGANIZER;CN="Jane%20Walls":MAILTO:arizonayouthballet.org
END:VEVENT
BEGIN:VEVENT
DTSTART;VALUE=DATE:20240417
DTEND;VALUE=DATE:20240418
DTSTAMP:20260419T183027
CREATED:20230807T003155Z
LAST-MODIFIED:20230807T003155Z
UID:5311-1713312000-1713398399@www.arizonayouthballet.org
SUMMARY:Frozen Creamery Meal Funraiser
DESCRIPTION:
URL:https://www.arizonayouthballet.org/event/frozen-creamery-meal-funraiser/
LOCATION:Frozen Creamery\, 744 W Ray Road\, Gilbert\, AZ\, 85233\, United States
ORGANIZER;CN="Jane%20Walls":MAILTO:arizonayouthballet.org
END:VEVENT
BEGIN:VEVENT
DTSTART;VALUE=DATE:20240410
DTEND;VALUE=DATE:20240411
DTSTAMP:20260419T183027
CREATED:20230807T002943Z
LAST-MODIFIED:20230807T002943Z
UID:5310-1712707200-1712793599@www.arizonayouthballet.org
SUMMARY:Backyard Taco Meal Fundraiser
DESCRIPTION:
URL:https://www.arizonayouthballet.org/event/backyard-taco-meal-fundraiser/
LOCATION:Backyard Taco\, 1420 S Higley Road\, Gilbert\, AZ\, 85296\, United States
END:VEVENT
BEGIN:VEVENT
DTSTART;VALUE=DATE:20240323
DTEND;VALUE=DATE:20240324
DTSTAMP:20260419T183027
CREATED:20230807T002651Z
LAST-MODIFIED:20230807T002651Z
UID:5307-1711152000-1711238399@www.arizonayouthballet.org
SUMMARY:Rubios Meal Funraiser
DESCRIPTION:
URL:https://www.arizonayouthballet.org/event/rubios-meal-funraiser/
LOCATION:AZ
ORGANIZER;CN="Jane%20Walls":MAILTO:arizonayouthballet.org
END:VEVENT
BEGIN:VEVENT
DTSTART;TZID=America/Phoenix:20240319T100000
DTEND;TZID=America/Phoenix:20240319T110000
DTSTAMP:20260419T183027
CREATED:20230807T002615Z
LAST-MODIFIED:20230807T004803Z
UID:5306-1710842400-1710846000@www.arizonayouthballet.org
SUMMARY:Agritopia Performance
DESCRIPTION:
URL:https://www.arizonayouthballet.org/event/agritopia-performance-2/
LOCATION:AZ
ORGANIZER;CN="Jane%20Walls":MAILTO:arizonayouthballet.org
END:VEVENT
BEGIN:VEVENT
DTSTART;VALUE=DATE:20240223
DTEND;VALUE=DATE:20240224
DTSTAMP:20260419T183027
CREATED:20230807T002323Z
LAST-MODIFIED:20230807T002323Z
UID:5301-1708646400-1708732799@www.arizonayouthballet.org
SUMMARY:Modern Marketplace - Meal Funraiser
DESCRIPTION:
URL:https://www.arizonayouthballet.org/event/modern-marketplace-meal-funraiser/
LOCATION:AZ
ORGANIZER;CN="Jane%20Walls":MAILTO:arizonayouthballet.org
END:VEVENT
BEGIN:VEVENT
DTSTART;VALUE=DATE:20240210
DTEND;VALUE=DATE:20240211
DTSTAMP:20260419T183027
CREATED:20230807T002112Z
LAST-MODIFIED:20230807T002344Z
UID:5299-1707523200-1707609599@www.arizonayouthballet.org
SUMMARY:GOT SNEAKERS - Used Sneakers
DESCRIPTION:
URL:https://www.arizonayouthballet.org/event/got-sneakers-used-sneakers-2/
LOCATION:AZ
ORGANIZER;CN="Jane%20Walls":MAILTO:arizonayouthballet.org
END:VEVENT
BEGIN:VEVENT
DTSTART;VALUE=DATE:20240203
DTEND;VALUE=DATE:20240204
DTSTAMP:20260419T183027
CREATED:20230807T002033Z
LAST-MODIFIED:20230807T002033Z
UID:5297-1706918400-1707004799@www.arizonayouthballet.org
SUMMARY:GOT Sneakers - Used Sneakers
DESCRIPTION:
URL:https://www.arizonayouthballet.org/event/got-sneakers-used-sneakers/
LOCATION:AZ
ORGANIZER;CN="Jane%20Walls":MAILTO:arizonayouthballet.org
END:VEVENT
BEGIN:VEVENT
DTSTART;VALUE=DATE:20240113
DTEND;VALUE=DATE:20240114
DTSTAMP:20260419T183027
CREATED:20230807T001941Z
LAST-MODIFIED:20230807T001941Z
UID:5294-1705104000-1705190399@www.arizonayouthballet.org
SUMMARY:Thai Chile 2 Go Meal Fundraiser
DESCRIPTION:
URL:https://www.arizonayouthballet.org/event/thai-chile-2-go-meal-fundraiser/
LOCATION:Thai Chile 2 Go\, 1887 E Williams Field Rd.\, Gilbert\, AZ\, United States
ORGANIZER;CN="Jane%20Walls":MAILTO:arizonayouthballet.org
END:VEVENT
BEGIN:VEVENT
DTSTART;VALUE=DATE:20240113
DTEND;VALUE=DATE:20240114
DTSTAMP:20260419T183027
CREATED:20230807T001727Z
LAST-MODIFIED:20230807T001727Z
UID:5292-1705104000-1705190399@www.arizonayouthballet.org
SUMMARY:Respectacles-preowned prescription glasses
DESCRIPTION:
URL:https://www.arizonayouthballet.org/event/respectacles-preowned-prescription-glasses/
LOCATION:AZ
ORGANIZER;CN="Jane%20Walls":MAILTO:arizonayouthballet.org
END:VEVENT
BEGIN:VEVENT
DTSTART;VALUE=DATE:20231222
DTEND;VALUE=DATE:20231223
DTSTAMP:20260419T183027
CREATED:20230807T001548Z
LAST-MODIFIED:20230807T001548Z
UID:5286-1703203200-1703289599@www.arizonayouthballet.org
SUMMARY:PM Nutcracker Performance
DESCRIPTION:
URL:https://www.arizonayouthballet.org/event/pm-nutcracker-performance/
LOCATION:QCPAC\, 22149 E Ocotillo Rd\, Queen Creek\, AZ\, United States
END:VEVENT
BEGIN:VEVENT
DTSTART;VALUE=DATE:20231221
DTEND;VALUE=DATE:20231222
DTSTAMP:20260419T183027
CREATED:20230807T001313Z
LAST-MODIFIED:20230807T001313Z
UID:5285-1703116800-1703203199@www.arizonayouthballet.org
SUMMARY:QCPAC Dress Rehearsal
DESCRIPTION:
URL:https://www.arizonayouthballet.org/event/qcpac-dress-rehearsal/
LOCATION:QCPAC\, 22149 E Ocotillo Rd\, Queen Creek\, AZ\, United States
ORGANIZER;CN="Jane%20Walls":MAILTO:arizonayouthballet.org
END:VEVENT
BEGIN:VEVENT
DTSTART;VALUE=DATE:20231202
DTEND;VALUE=DATE:20231203
DTSTAMP:20260419T183027
CREATED:20230807T001128Z
LAST-MODIFIED:20230807T001128Z
UID:5283-1701475200-1701561599@www.arizonayouthballet.org
SUMMARY:In-Studio Dress Rehearsal
DESCRIPTION:
URL:https://www.arizonayouthballet.org/event/in-studio-dress-rehearsal-2/
LOCATION:CanDance Studios\, 1495 S Higley Rd\, B101\, Gilbert\, Arizona\, 85295\, United States
END:VEVENT
BEGIN:VEVENT
DTSTART;VALUE=DATE:20231125
DTEND;VALUE=DATE:20231126
DTSTAMP:20260419T183027
CREATED:20230807T001043Z
LAST-MODIFIED:20230807T001043Z
UID:5279-1700870400-1700956799@www.arizonayouthballet.org
SUMMARY:In-Studio Dress Rehearsal
DESCRIPTION:
URL:https://www.arizonayouthballet.org/event/in-studio-dress-rehearsal/
LOCATION:CanDance Studios\, 1495 S Higley Rd\, B101\, Gilbert\, Arizona\, 85295\, United States
END:VEVENT
BEGIN:VEVENT
DTSTART;VALUE=DATE:20231118
DTEND;VALUE=DATE:20231119
DTSTAMP:20260419T183027
CREATED:20230807T001005Z
LAST-MODIFIED:20230807T001005Z
UID:5278-1700265600-1700351999@www.arizonayouthballet.org
SUMMARY:SWIRLIT Meal Fundraiser
DESCRIPTION:
URL:https://www.arizonayouthballet.org/event/swirlit-meal-fundraiser/
LOCATION:SWIRLIT\, 1397 e williams field rd\, Gilbert\, AZ\, 85295\, United States
END:VEVENT
BEGIN:VEVENT
DTSTART;VALUE=DATE:20231111
DTEND;VALUE=DATE:20231112
DTSTAMP:20260419T183027
CREATED:20230807T000705Z
LAST-MODIFIED:20230807T000705Z
UID:5276-1699660800-1699747199@www.arizonayouthballet.org
SUMMARY:St. Mary's Canned Food Drive
DESCRIPTION:
URL:https://www.arizonayouthballet.org/event/st-marys-canned-food-drive/
LOCATION:AZ
END:VEVENT
BEGIN:VEVENT
DTSTART;TZID=America/Phoenix:20231103T180000
DTEND;TZID=America/Phoenix:20231103T200000
DTSTAMP:20260419T183027
CREATED:20230806T235558Z
LAST-MODIFIED:20230806T235558Z
UID:5256-1699034400-1699041600@www.arizonayouthballet.org
SUMMARY:Silent Auction
DESCRIPTION:
URL:https://www.arizonayouthballet.org/event/silent-auction/
LOCATION:CanDance Studios\, 1495 S Higley Rd\, B101\, Gilbert\, Arizona\, 85295\, United States
ATTACH;FMTTYPE=image/jpeg:https://www.arizonayouthballet.org/wp-content/uploads/2023/08/silent-auction-2023.jpg
ORGANIZER;CN="Jane%20Walls":MAILTO:arizonayouthballet.org
END:VEVENT
BEGIN:VEVENT
DTSTART;VALUE=DATE:20231025
DTEND;VALUE=DATE:20231026
DTSTAMP:20260419T183027
CREATED:20230807T000556Z
LAST-MODIFIED:20230807T000556Z
UID:5272-1698192000-1698278399@www.arizonayouthballet.org
SUMMARY:Mod Pizza Meal Fundraiser
DESCRIPTION:
URL:https://www.arizonayouthballet.org/event/mod-pizza-meal-fundraiser/
LOCATION:Mod Pizza\, 2904 S SanTan Village Parkway\, Gilbert\, AZ\, 85295\, United States
ORGANIZER;CN="Jane%20Walls":MAILTO:arizonayouthballet.org
END:VEVENT
BEGIN:VEVENT
DTSTART;VALUE=DATE:20231021
DTEND;VALUE=DATE:20231022
DTSTAMP:20260419T183027
CREATED:20230807T000320Z
LAST-MODIFIED:20230807T000320Z
UID:5271-1697846400-1697932799@www.arizonayouthballet.org
SUMMARY:Soctober: donate NEW SOCKS
DESCRIPTION:
URL:https://www.arizonayouthballet.org/event/soctober-donate-new-socks/
LOCATION:AZ
END:VEVENT
BEGIN:VEVENT
DTSTART;VALUE=DATE:20230807
DTEND;VALUE=DATE:20230808
DTSTAMP:20260419T183027
CREATED:20230807T002508Z
LAST-MODIFIED:20230807T004533Z
UID:5302-1691366400-1691366400@www.arizonayouthballet.org
SUMMARY:Smart Wool - Clean\, Used Sock Drive
DESCRIPTION:
URL:https://www.arizonayouthballet.org/event/smart-wool-clean-used-sock-drive/
LOCATION:AZ
ORGANIZER;CN="Jane%20Walls":MAILTO:arizonayouthballet.org
END:VEVENT
BEGIN:VEVENT
DTSTART;VALUE=DATE:20231006
DTEND;VALUE=DATE:20231007
DTSTAMP:20260419T183027
CREATED:20230807T000209Z
LAST-MODIFIED:20230807T000209Z
UID:5269-1696550400-1696636799@www.arizonayouthballet.org
SUMMARY:NO CLASS
DESCRIPTION:
URL:https://www.arizonayouthballet.org/event/no-class/
LOCATION:AZ
END:VEVENT
BEGIN:VEVENT
DTSTART;TZID=America/Phoenix:20231003T100000
DTEND;TZID=America/Phoenix:20231003T110000
DTSTAMP:20260419T183027
CREATED:20230807T000128Z
LAST-MODIFIED:20230807T000128Z
UID:5267-1696327200-1696330800@www.arizonayouthballet.org
SUMMARY:Agritopia Performance
DESCRIPTION:
URL:https://www.arizonayouthballet.org/event/agritopia-performance/
LOCATION:AZ
ORGANIZER;CN="Jane%20Walls":MAILTO:arizonayouthballet.org
END:VEVENT
BEGIN:VEVENT
DTSTART;VALUE=DATE:20230930
DTEND;VALUE=DATE:20231001
DTSTAMP:20260419T183027
CREATED:20230807T000006Z
LAST-MODIFIED:20230807T000006Z
UID:5262-1696032000-1696118399@www.arizonayouthballet.org
SUMMARY:Master Class\, Katie Kirwan
DESCRIPTION:
URL:https://www.arizonayouthballet.org/event/master-class-katie-kirwan/
LOCATION:CanDance Studios\, 1495 S Higley Rd\, B101\, Gilbert\, Arizona\, 85295\, United States
ORGANIZER;CN="Jane%20Walls":MAILTO:arizonayouthballet.org
END:VEVENT
BEGIN:VEVENT
DTSTART;VALUE=DATE:20230909
DTEND;VALUE=DATE:20230910
DTSTAMP:20260419T183027
CREATED:20230806T235918Z
LAST-MODIFIED:20230807T004056Z
UID:5260-1694217600-1694303999@www.arizonayouthballet.org
SUMMARY:Chipotle Meal Fundraiser
DESCRIPTION:
URL:https://www.arizonayouthballet.org/event/chipotle-meal-fundraiser/
LOCATION:2224 E Williams Field Rd #109\, Gilbert\, AZ 85295\, 2224 E Williams Field Rd #109\, Gilbert\, AZ\, United States
ORGANIZER;CN="Jane%20Walls":MAILTO:arizonayouthballet.org
END:VEVENT
BEGIN:VEVENT
DTSTART;TZID=America/Phoenix:20230823T080000
DTEND;TZID=America/Phoenix:20230823T170000
DTSTAMP:20260419T183027
CREATED:20230802T225215Z
LAST-MODIFIED:20230806T235716Z
UID:5250-1692777600-1692810000@www.arizonayouthballet.org
SUMMARY:Panda Express Meal Fundraiser
DESCRIPTION:
URL:https://www.arizonayouthballet.org/event/panda-express-meal-fundraiser/
LOCATION:AZ
END:VEVENT
BEGIN:VEVENT
DTSTART;TZID=America/Phoenix:20230812T080000
DTEND;TZID=America/Phoenix:20230812T170000
DTSTAMP:20260419T183027
CREATED:20230802T225126Z
LAST-MODIFIED:20230802T230030Z
UID:5248-1691827200-1691859600@www.arizonayouthballet.org
SUMMARY:Nutcracker 2023 Auditions
DESCRIPTION:
URL:https://www.arizonayouthballet.org/event/nutcracker-2023-auditions/
LOCATION:CanDance Studios\, 1495 S Higley Rd\, B101\, Gilbert\, Arizona\, 85295\, United States
ATTACH;FMTTYPE=image/png:https://www.arizonayouthballet.org/wp-content/uploads/2022/07/2.png
ORGANIZER;CN="Jane%20Walls":MAILTO:arizonayouthballet.org
END:VEVENT
END:VCALENDAR