BEGIN:VCALENDAR
VERSION:2.0
PRODID:-//Arizona Youth Ballet - ECPv6.1.3//NONSGML v1.0//EN
CALSCALE:GREGORIAN
METHOD:PUBLISH
X-WR-CALNAME:Arizona Youth Ballet
X-ORIGINAL-URL:https://www.arizonayouthballet.org
X-WR-CALDESC:Events for Arizona Youth Ballet
REFRESH-INTERVAL;VALUE=DURATION:PT1H
X-Robots-Tag:noindex
X-PUBLISHED-TTL:PT1H
BEGIN:VTIMEZONE
TZID:America/Phoenix
BEGIN:STANDARD
TZOFFSETFROM:-0700
TZOFFSETTO:-0700
TZNAME:MST
DTSTART:20230101T000000
END:STANDARD
END:VTIMEZONE
BEGIN:VEVENT
DTSTART;TZID=America/Phoenix:20230805T120000
DTEND;TZID=America/Phoenix:20230805T133000
DTSTAMP:20260423T131321
CREATED:20230802T191813Z
LAST-MODIFIED:20230802T230056Z
UID:5232-1691236800-1691242200@www.arizonayouthballet.org
SUMMARY:AZYB Company Auditions
DESCRIPTION:
URL:https://www.arizonayouthballet.org/event/azyb-company-auditions/
LOCATION:CanDance Studios\, 1495 S Higley Rd\, B101\, Gilbert\, Arizona\, 85295\, United States
ATTACH;FMTTYPE=image/jpeg:https://www.arizonayouthballet.org/wp-content/uploads/2023/07/Company-Auditions-scaled.jpg
ORGANIZER;CN="Jane%20Walls":MAILTO:arizonayouthballet.org
END:VEVENT
END:VCALENDAR