BEGIN:VCALENDAR
VERSION:2.0
PRODID:-//Arizona Youth Ballet - ECPv6.1.3//NONSGML v1.0//EN
CALSCALE:GREGORIAN
METHOD:PUBLISH
X-ORIGINAL-URL:https://www.arizonayouthballet.org
X-WR-CALDESC:Events for Arizona Youth Ballet
REFRESH-INTERVAL;VALUE=DURATION:PT1H
X-Robots-Tag:noindex
X-PUBLISHED-TTL:PT1H
BEGIN:VTIMEZONE
TZID:America/Phoenix
BEGIN:STANDARD
TZOFFSETFROM:-0700
TZOFFSETTO:-0700
TZNAME:MST
DTSTART:20230101T000000
END:STANDARD
END:VTIMEZONE
BEGIN:VEVENT
DTSTART;VALUE=DATE:20231223
DTEND;VALUE=DATE:20241224
DTSTAMP:20260423T063223
CREATED:20230807T001630Z
LAST-MODIFIED:20230807T004231Z
UID:5290-1703289600-1734998399@www.arizonayouthballet.org
SUMMARY:Matinee and PM Nutcracker Performance
DESCRIPTION:
URL:https://www.arizonayouthballet.org/event/matinee-and-pm-nutcracker-performance/
LOCATION:QCPAC\, 22149 E Ocotillo Rd\, Queen Creek\, AZ\, United States
ORGANIZER;CN="Jane%20Walls":MAILTO:arizonayouthballet.org
END:VEVENT
BEGIN:VEVENT
DTSTART;TZID=America/Phoenix:20240319T100000
DTEND;TZID=America/Phoenix:20240319T110000
DTSTAMP:20260423T063223
CREATED:20230807T002615Z
LAST-MODIFIED:20230807T004803Z
UID:5306-1710842400-1710846000@www.arizonayouthballet.org
SUMMARY:Agritopia Performance
DESCRIPTION:
URL:https://www.arizonayouthballet.org/event/agritopia-performance-2/
LOCATION:AZ
ORGANIZER;CN="Jane%20Walls":MAILTO:arizonayouthballet.org
END:VEVENT
BEGIN:VEVENT
DTSTART;VALUE=DATE:20240323
DTEND;VALUE=DATE:20240324
DTSTAMP:20260423T063223
CREATED:20230807T002651Z
LAST-MODIFIED:20230807T002651Z
UID:5307-1711152000-1711238399@www.arizonayouthballet.org
SUMMARY:Rubios Meal Funraiser
DESCRIPTION:
URL:https://www.arizonayouthballet.org/event/rubios-meal-funraiser/
LOCATION:AZ
ORGANIZER;CN="Jane%20Walls":MAILTO:arizonayouthballet.org
END:VEVENT
END:VCALENDAR